BEGIN:VCALENDAR
VERSION:2.0
METHOD:PUBLISH
PRODID:-//Telerik Inc.//Sitefinity CMS 15.3//EN
BEGIN:VTIMEZONE
TZID:Central Standard Time
BEGIN:STANDARD
DTSTART:20251102T020000
RRULE:FREQ=YEARLY;BYDAY=1SU;BYHOUR=2;BYMINUTE=0;BYMONTH=11
TZNAME:Central Standard Time
TZOFFSETFROM:-0500
TZOFFSETTO:-0600
END:STANDARD
BEGIN:DAYLIGHT
DTSTART:20250301T020000
RRULE:FREQ=YEARLY;BYDAY=2SU;BYHOUR=2;BYMINUTE=0;BYMONTH=3
TZNAME:Central Daylight Time
TZOFFSETFROM:-0600
TZOFFSETTO:-0500
END:DAYLIGHT
END:VTIMEZONE
BEGIN:VEVENT
DESCRIPTION:Neuroscience Grand RoundsDepartments of Neurology and Neurosurg
 eryThe University of Texas Medical Branch at GalvestonWednesday\, April 22
 \, 20267:30 am - 8:30 amMicrosoft Teams ONLY"Updates on Myasthenia Gravis:
  Diagnosis and Treatment"Vijaya Valaparla\, MDAssistant ProfessorAssociate
  Program Director\, Clinical Neurophysiology FellowshipDepartment of Neuro
 logyUniversity of Texas Medical Branch
DTEND:20260422T133000Z
DTSTAMP:20260421T112721Z
DTSTART:20260422T123000Z
LOCATION:
SEQUENCE:0
SUMMARY:Neuroscience Grand Rounds - 4/22/2026
UID:RFCALITEM639123496414194357
X-ALT-DESC;FMTTYPE=text/html:<h2 style="text-align:center\;"><strong>Neuros
 cience Grand Rounds</strong><br /><small class="subtitle">Departments of N
 eurology and Neurosurgery<br />The University of Texas Medical Branch at G
 alveston</small></h2><p style="text-align:center\;font-size:1.25rem\;"><st
 rong>Wednesday\, April 22\, 2026</strong><br />7:30 am - 8:30 am<br /><spa
 n style="font-family:open_sanssemibold\, Arial\, Verdana\, sans-serif\;"><
 strong>Microsoft Teams ONLY</strong></span></p><h3 style="text-align:cente
 r\;">"Updates on Myasthenia Gravis: Diagnosis and Treatment"</h3><p style=
 "text-align:center\;">Vijaya Valaparla\, MD</p><p style="text-align:center
 \;">Assistant Professor</p><p style="text-align:center\;">Associate Progra
 m Director\, Clinical Neurophysiology Fellowship</p><p style="text-align:c
 enter\;">Department of Neurology</p><p style="text-align:center\;">Univers
 ity of Texas Medical Branch</p>
END:VEVENT
END:VCALENDAR
