BEGIN:VCALENDAR
VERSION:2.0
METHOD:PUBLISH
PRODID:-//Telerik Inc.//Sitefinity CMS 15.3//EN
BEGIN:VTIMEZONE
TZID:Central Standard Time
BEGIN:STANDARD
DTSTART:20251102T020000
RRULE:FREQ=YEARLY;BYDAY=1SU;BYHOUR=2;BYMINUTE=0;BYMONTH=11
TZNAME:Central Standard Time
TZOFFSETFROM:-0500
TZOFFSETTO:-0600
END:STANDARD
BEGIN:DAYLIGHT
DTSTART:20250301T020000
RRULE:FREQ=YEARLY;BYDAY=2SU;BYHOUR=2;BYMINUTE=0;BYMONTH=3
TZNAME:Central Daylight Time
TZOFFSETFROM:-0600
TZOFFSETTO:-0500
END:DAYLIGHT
END:VTIMEZONE
BEGIN:VEVENT
DESCRIPTION:Speaker:&nbsp\;Dr. Karen Mann\, Moffitt Cancer CenterHost:&nbsp
 \;Hubert Lee\, PhD
DTEND:20220303T230000Z
DTSTAMP:20260421T084336Z
DTSTART:20220303T220000Z
LOCATION:TX\,USA\,Galveston\,1005 Stand Street
SEQUENCE:0
SUMMARY:Mechanistic Insights of latent tumor suppressors promoting pancreat
 ic cancer progression through transcriptional reprogramming
UID:RFCALITEM639123398164170655
X-ALT-DESC;FMTTYPE=text/html:<p class="speaker"><strong>Speaker:&nbsp\;</st
 rong>Dr. Karen Mann\, Moffitt Cancer Center</p><p class="host"><strong>Hos
 t:&nbsp\;</strong>Hubert Lee\, PhD</p>
END:VEVENT
END:VCALENDAR
