BEGIN:VCALENDAR
VERSION:2.0
METHOD:PUBLISH
PRODID:-//Telerik Inc.//Sitefinity CMS 15.3//EN
BEGIN:VEVENT
DESCRIPTION:This annual gathering brings professionals together to strength
 en collaboration\, exchange innovative strategies\, and enhance regional p
 reparedness\, response\, and overall resilience in support of safer\, more
  connected communities.Register
DTEND;VALUE=DATE:20261017
DTSTAMP:20260420T113539Z
DTSTART;VALUE=DATE:20261014
LOCATION:TX\,U.S.\,Galveston\,5222 Seawall Blvd
SEQUENCE:0
SUMMARY:SETRAC 17th Annual Preparedness Coalition Symposium
UID:RFCALITEM639122637399000114
X-ALT-DESC;FMTTYPE=text/html:<div><div><div><div data-message-author-role="
 assistant" data-message-id="7aefab61-40f3-4327-994f-ffcea205dca2" dir="aut
 o" data-message-model-slug="gpt-5-3"><div><div><p data-start="0" data-end=
 "229" data-is-last-node="" data-is-only-node="">This annual gathering brin
 gs professionals together to strengthen collaboration\, exchange innovativ
 e strategies\, and enhance regional preparedness\, response\, and overall 
 resilience in support of safer\, more connected communities.</p><p data-st
 art="0" data-end="229" data-is-last-node="" data-is-only-node=""><a href="
 https://www.setrac.org/symposium/" class="btn btn-block btn-red">Register<
 /a></p></div></div></div></div><div></div></div></div>
END:VEVENT
END:VCALENDAR
